BEGIN:VCALENDAR
VERSION:2.0
PRODID:-//ChamberMaster//Event Calendar 2.0//EN
METHOD:PUBLISH
X-PUBLISHED-TTL:P3D
REFRESH-INTERVAL:P3D
CALSCALE:GREGORIAN
BEGIN:VEVENT
DTSTART;VALUE=DATE:20110317
DTEND;VALUE=DATE:20110320
TRANSP:TRANSPARENT
X-MICROSOFT-CDO-ALLDAYEVENT:TRUE
SUMMARY:IMCA Spring Nationals at Beatrice Speedway
DESCRIPTION:IMCA Spring Nationals at Beatrice Speedway Races\n\n\n\nMarch\n\n17th - IMCA Spring Nationals Practice\n\n         Classes: All       \n\n\n\n18th - IMCA Spring Nationals\n\n         Classes: Modifieds\, Sport Mods\, Hobby Stocks\, & Sport Compacts\n\n	\n\n	19th - IMCA Spring Nationals\n\n	         Classes: Modifieds\, Sport Mods\, Hobby Stocks\, & Factory Stocks\n\n	\n\n	www.beatricespeedway.com
X-ALT-DESC;FMTTYPE=text/html:IMCA Spring Nationals at Beatrice Speedway Races<br />\n<br />\n<font face="Trebuchet MS"><strong>March<br />\n<span style="font-family: trebuchet ms\, geneva\; font-size: 10pt">17th - <a href="/images/stories/Beatrice_Nationals_entry_2011.pdf" included="null">IMCA Spring Nationals Practice</a></span></strong><br />\n<span style="font-family: trebuchet ms\, geneva\; font-size: 10pt">&nbsp\;&nbsp\;&nbsp\;&nbsp\;&nbsp\;&nbsp\;&nbsp\;&nbsp\;&nbsp\;Classes: All&nbsp\;&nbsp\;&nbsp\;&nbsp\;&nbsp\;&nbsp\; </span><br />\n<br />\n<span style="font-family: trebuchet ms\, geneva\; font-size: 10pt"><strong>18th - <a href="/images/stories/Beatrice_Nationals_entry_2011.pdf" included="null">IMCA Spring Nationals</a></strong></span><br />\n<span style="font-family: trebuchet ms\, geneva\; font-size: 10pt">&nbsp\;&nbsp\;&nbsp\;&nbsp\;&nbsp\;&nbsp\;&nbsp\;&nbsp\; </span></font>Classes: Modifieds\, Sport Mods\, Hobby Stocks\, &amp\; Sport Compacts\n<p>\n	<br />\n	<span style="font-family: trebuchet ms\, geneva\; font-size: 10pt"><strong><font face="Trebuchet MS">19th - </font><a href="/images/stories/Beatrice_Nationals_entry_2011.pdf" included="null"><font face="Trebuchet MS">IMCA Spring Nationals</font></a></strong></span><br />\n	<span style="font-family: trebuchet ms\, geneva\; font-size: 12pt"><span style="font-size: 14pt"><span style="font-size: 10pt"><font face="Trebuchet MS">&nbsp\;&nbsp\;&nbsp\;&nbsp\;&nbsp\;&nbsp\;&nbsp\;&nbsp\; Classes: Modifieds\, Sport Mods\, Hobby Stocks\, &amp\; Factory Stocks</font></span></span><br />\n	<br />\n	<strong>www.beatricespeedway.com</strong></span><br />\n	&nbsp\;</p>\n
LOCATION:
UID:e.41.4201
SEQUENCE:3
DTSTAMP:20260424T211832Z
URL:https://business.beatricechamber.com/events/details/imca-spring-nationals-at-beatrice-speedway-03-17-2011-4201
END:VEVENT

END:VCALENDAR
