BEGIN:VCALENDAR
VERSION:2.0
PRODID:-//ChamberMaster//Event Calendar 2.0//EN
METHOD:PUBLISH
X-PUBLISHED-TTL:P3D
REFRESH-INTERVAL:P3D
CALSCALE:GREGORIAN
BEGIN:VEVENT
DTSTART:20110430T130000Z
DTEND:20110430T190000Z
X-MICROSOFT-CDO-ALLDAYEVENT:FALSE
SUMMARY:In-Door Ultimate Garage Sale & Flea Market
DESCRIPTION:Several Home Based Vendors\, Garage Sales Items\,  baked goods.\, Something for Everyone!
X-ALT-DESC;FMTTYPE=text/html:Several Home Based Vendors\, Garage Sales Items\,  baked goods.\, Something for Everyone!
LOCATION:Gage County Fairgrounds\, 4-H Building
UID:e.41.4243
SEQUENCE:3
DTSTAMP:20260424T195504Z
URL:https://business.beatricechamber.com/events/details/in-door-ultimate-garage-sale-flea-market-04-30-2011-4243
END:VEVENT

END:VCALENDAR
