BEGIN:VCALENDAR
VERSION:2.0
PRODID:-//ChamberMaster//Event Calendar 2.0//EN
METHOD:PUBLISH
X-PUBLISHED-TTL:P3D
REFRESH-INTERVAL:P3D
CALSCALE:GREGORIAN
BEGIN:VEVENT
DTSTART;VALUE=DATE:20111002
DTEND;VALUE=DATE:20111003
TRANSP:TRANSPARENT
X-MICROSOFT-CDO-ALLDAYEVENT:TRUE
SUMMARY:In My Daughter's Name
DESCRIPTION:2 p.m. at the Beatrice Community Players\, Beatrice.  The Angels Theatre Company presents\, "In My Daughter's Name" by Becky Key Boesen.  Admission: $10 in advance\, $12 at the door.\n\n	\n\n	For more information\, please visit www.hopecrisiscenter.org or call 402-729-2570.
X-ALT-DESC;FMTTYPE=text/html:<p>\n	2 p.m. at the Beatrice Community Players\, Beatrice.&nbsp\; The Angels Theatre Company presents\, &quot\;In My Daughter&#39\;s Name&quot\; by Becky Key Boesen.&nbsp\; Admission: $10 in advance\, $12 at the door.<br />\n	<br />\n	For more information\, please visit <a href="http://www.hopecrisiscenter.org">www.hopecrisiscenter.org</a> or call 402-729-2570.&nbsp\;</p>\n
LOCATION:
UID:e.41.5089
SEQUENCE:3
DTSTAMP:20260424T111304Z
URL:https://business.beatricechamber.com/events/details/in-my-daughter-s-name-10-02-2011-5089
END:VEVENT

END:VCALENDAR
