BEGIN:VCALENDAR
VERSION:2.0
PRODID:-//ChamberMaster//Event Calendar 2.0//EN
METHOD:PUBLISH
X-PUBLISHED-TTL:P3D
REFRESH-INTERVAL:P3D
CALSCALE:GREGORIAN
BEGIN:VEVENT
DTSTART;VALUE=DATE:20111005
DTEND;VALUE=DATE:20111006
TRANSP:TRANSPARENT
X-MICROSOFT-CDO-ALLDAYEVENT:TRUE
SUMMARY:In My Daughter's Name
DESCRIPTION:7 p.m. at the Doane College Conservatory\, Crete.  The Angels Theatre Company presents\, "In My Daughter's Name" by Becky Key Boesen.  Admission is $10 in advance and $12 at the door.\n\n\n\nFor more information\, please visit www.hopecrisiscenter.org or call 402-729-2570.
X-ALT-DESC;FMTTYPE=text/html:7 p.m. at the Doane College Conservatory\, Crete.&nbsp\; The Angels Theatre Company presents\, &quot\;In My Daughter&#39\;s Name&quot\; by Becky Key Boesen.&nbsp\; Admission is $10 in advance and $12 at the door.<br />\n<br />\nFor more information\, please visit <a href="http://www.hopecrisiscenter.org">www.hopecrisiscenter.org</a> or call 402-729-2570.
LOCATION:
UID:e.41.5090
SEQUENCE:3
DTSTAMP:20260424T111304Z
URL:https://business.beatricechamber.com/events/details/in-my-daughter-s-name-10-05-2011-5090
END:VEVENT

END:VCALENDAR
