BEGIN:VCALENDAR
VERSION:2.0
PRODID:-//ChamberMaster//Event Calendar 2.0//EN
METHOD:PUBLISH
X-PUBLISHED-TTL:P3D
REFRESH-INTERVAL:P3D
CALSCALE:GREGORIAN
BEGIN:VEVENT
DTSTART;VALUE=DATE:20111015
DTEND;VALUE=DATE:20111017
TRANSP:TRANSPARENT
X-MICROSOFT-CDO-ALLDAYEVENT:TRUE
SUMMARY:Indian Creek Mall Craft Fair
DESCRIPTION:Indian Creek Mall Craft Fair\n\n\n\nSaturday & Sunday\, October 15 & 16\n\n\n\n2205 N 6th Street\n\nBeatrice\, NE\n\n\n\n\n\nwww.indiancreekmallne.com\n\n402-228-4241
X-ALT-DESC;FMTTYPE=text/html:Indian Creek Mall Craft Fair<br />\n<br />\nSaturday &amp\; Sunday\, October 15 &amp\; 16<br />\n<br />\n2205 N 6th Street<br />\nBeatrice\, NE<br />\n<br />\n<br />\n<a href="http://www.indiancreekmallne.com">www.indiancreekmallne.com</a><br />\n402-228-4241
LOCATION:
UID:e.41.5139
SEQUENCE:3
DTSTAMP:20260424T111433Z
URL:https://business.beatricechamber.com/events/details/indian-creek-mall-craft-fair-10-15-2011-5139
END:VEVENT

END:VCALENDAR
