BEGIN:VCALENDAR
VERSION:2.0
PRODID:-//ChamberMaster//Event Calendar 2.0//EN
METHOD:PUBLISH
X-PUBLISHED-TTL:P3D
REFRESH-INTERVAL:P3D
CALSCALE:GREGORIAN
BEGIN:VEVENT
DTSTART;VALUE=DATE:20120317
DTEND;VALUE=DATE:20120318
TRANSP:TRANSPARENT
X-MICROSOFT-CDO-ALLDAYEVENT:TRUE
SUMMARY:Indian Creek Mall Craft Show
DESCRIPTION:Craft Fair at Indian Creek Mall\n\n	Beatrice\, NE\n\n	 \n\n	\n		Saturday\, March 17\n\n		 9 a.m.- 6p.m.\n\n		 \n	\n		Hand Crafted Items\, Bake Sale\, Tupperware\, Door Prizes and much more!\n\n		\n\n		Address : 2205 North 6th Street\n\n		\n\n		For more information contact Indian Creek Mall Association 402-239-3881.
X-ALT-DESC;FMTTYPE=text/html:<div>\n	<span style="font-family: times new roman"><strong><span style="font-size: medium">Craft Fair </span></strong></span><span style="font-family: times new roman"><strong><span style="font-size: medium"><span style="font-family: times new roman"><span style="font-size: medium">at Indian Creek Mall</span></span></span></strong></span></div>\n<div>\n	<span style="font-family: times new roman"><span style="font-size: medium">Beatrice\, NE</span></span></div>\n<div>\n	&nbsp\;</div>\n<div>\n	<p>\n		<span style="font-family: times new roman"><span style="font-size: medium">Saturday\, March 17<br />\n		&nbsp\;9 a.m.- 6p.m.</span></span><br />\n		&nbsp\;</p>\n	<p>\n		<span style="font-family: times new roman"><span style="font-size: medium"><span style="font-family: times new roman"><span style="font-size: medium">Hand Crafted Items\, Bake Sale\, Tupperware\, Door Prizes and much more!<br />\n		<br />\n		<strong>Address : </strong>2205 North 6th Street<br />\n		<br />\n		For more information contact Indian Creek Mall Association 402-239-3881.</span></span></span></span></p>\n</div>\n
LOCATION:
UID:e.41.5281
SEQUENCE:3
DTSTAMP:20260422T173250Z
URL:https://business.beatricechamber.com/events/details/indian-creek-mall-craft-show-03-17-2012-5281
END:VEVENT

END:VCALENDAR
