BEGIN:VCALENDAR
VERSION:2.0
PRODID:-//ChamberMaster//Event Calendar 2.0//EN
METHOD:PUBLISH
X-PUBLISHED-TTL:P3D
REFRESH-INTERVAL:P3D
CALSCALE:GREGORIAN
BEGIN:VEVENT
DTSTART;VALUE=DATE:20100425
DTEND;VALUE=DATE:20100426
TRANSP:TRANSPARENT
X-MICROSOFT-CDO-ALLDAYEVENT:TRUE
SUMMARY:Industry Day 4/25/2010
DESCRIPTION:Industry Day Sunday\, April 25\, 201010 a.m. - 3 p.m. Gage County Museum2nd & Court Streets\, Beatrice Featuring JayHusker Antique Auto Club\, Inc.
X-ALT-DESC;FMTTYPE=text/html:<div>Industry Day</div><div>&nbsp\;</div><div>Sunday\, April 25\, 2010</div><div>10 a.m. - 3 p.m.</div><div>&nbsp\;</div><div>Gage County Museum</div><div>2nd &amp\;&nbsp\;Court Streets\, Beatrice</div><div>&nbsp\;</div><div>Featuring JayHusker Antique Auto Club\, Inc.</div>
LOCATION:
UID:e.41.1957
SEQUENCE:3
DTSTAMP:20260425T135312Z
URL:https://business.beatricechamber.com/events/details/industry-day-4-25-2010-04-25-2010-1957
END:VEVENT

END:VCALENDAR
