BEGIN:VCALENDAR
VERSION:2.0
PRODID:-//ChamberMaster//Event Calendar 2.0//EN
METHOD:PUBLISH
X-PUBLISHED-TTL:P3D
REFRESH-INTERVAL:P3D
CALSCALE:GREGORIAN
BEGIN:VEVENT
DTSTART:20110521T130000Z
DTEND:20110521T210000Z
X-MICROSOFT-CDO-ALLDAYEVENT:FALSE
SUMMARY:International Learn To Fly Day
DESCRIPTION:Airport Terminal Building\, Beatrice Airport. Flight instructor John Cox will be available to discuss the possibilities and enjoyment available in aviation.\n\n	\n\n	No airplane rides will be given\; two training aircraft and numerous instruments on display. Free of charge.\n\n	Hosted by Chapter 569 of the Experimental Aircraft Association.\n\n	\n\n	John Cox\, 402-239-3953\, or visit www.johncoxcfi.com
X-ALT-DESC;FMTTYPE=text/html:<p>\n	Airport Terminal Building\, Beatrice Airport. Flight instructor John Cox will be available to discuss the possibilities and enjoyment available in aviation.<br />\n	<br />\n	No airplane rides will be given\; two training aircraft and numerous instruments on&nbsp\;display. Free of charge.<br />\n	Hosted by Chapter 569 of the Experimental Aircraft Association.<br />\n	<br />\n	John Cox\, 402-239-3953\, or visit <a href="http://www.johncoxcfi.com">www.johncoxcfi.com</a></p>\n
LOCATION:
UID:e.41.4841
SEQUENCE:3
DTSTAMP:20260424T182354Z
URL:https://business.beatricechamber.com/events/details/international-learn-to-fly-day-05-21-2011-4841
END:VEVENT

END:VCALENDAR
