BEGIN:VCALENDAR
VERSION:2.0
PRODID:-//ChamberMaster//Event Calendar 2.0//EN
METHOD:PUBLISH
X-PUBLISHED-TTL:P3D
REFRESH-INTERVAL:P3D
CALSCALE:GREGORIAN
BEGIN:VEVENT
DTSTART;VALUE=DATE:20120309
DTEND;VALUE=DATE:20120310
TRANSP:TRANSPARENT
X-MICROSOFT-CDO-ALLDAYEVENT:TRUE
SUMMARY:"Intro to Traditional Irish Culture"
DESCRIPTION:2 pm.\, Homestead National Monument of America's Education Center. Mairtin de Cogain will explore Irish singing\, dancing\, and story-telling ina workshop. Funded through a Nebraska Humanities Council grant
X-ALT-DESC;FMTTYPE=text/html:2 pm.\, Homestead National Monument of America&#39\;s Education Center. Mairtin de Cogain will explore Irish singing\, dancing\, and story-telling ina workshop. Funded through a Nebraska Humanities Council grant
LOCATION:
UID:e.41.5390
SEQUENCE:3
DTSTAMP:20260422T173801Z
URL:https://business.beatricechamber.com/events/details/intro-to-traditional-irish-culture-03-09-2012-5390
END:VEVENT

END:VCALENDAR
