BEGIN:VCALENDAR
VERSION:2.0
PRODID:-//ChamberMaster//Event Calendar 2.0//EN
METHOD:PUBLISH
X-PUBLISHED-TTL:P3D
REFRESH-INTERVAL:P3D
CALSCALE:GREGORIAN
BEGIN:VEVENT
DTSTART;VALUE=DATE:20111204
DTEND;VALUE=DATE:20111205
TRANSP:TRANSPARENT
X-MICROSOFT-CDO-ALLDAYEVENT:TRUE
SUMMARY:Irish Christmas in America
DESCRIPTION:The award winning Irish music group Lumiere\, will be performing at the Homestead National Monument of America's Education Center at 2pm.
X-ALT-DESC;FMTTYPE=text/html:The award winning Irish music group Lumiere\, will be performing at the Homestead National Monument of America&#39\;s Education Center at 2pm. &nbsp\;
LOCATION:
UID:e.41.5263
SEQUENCE:3
DTSTAMP:20260424T083236Z
URL:https://business.beatricechamber.com/events/details/irish-christmas-in-america-12-04-2011-5263
END:VEVENT

END:VCALENDAR
