BEGIN:VCALENDAR
VERSION:2.0
PRODID:-//ChamberMaster//Event Calendar 2.0//EN
METHOD:PUBLISH
X-PUBLISHED-TTL:P3D
REFRESH-INTERVAL:P3D
CALSCALE:GREGORIAN
BEGIN:VEVENT
DTSTART:20120818T133000Z
DTEND:20120818T210000Z
X-MICROSOFT-CDO-ALLDAYEVENT:FALSE
SUMMARY:JAKES Day
DESCRIPTION:Come and have your youth learn the safe way to handle a wide variety of different firearms in a "Safe and Supervised" environment. \n\n	\n		Open the boys and girls age 17 and under. \n	\n		Children MUST be accompanies by and adult.\n	\n		FREE lunch will be served.\n	\n		NO Personal Firearms allowed!\n	\n		Bring your lawn chairs.\n	\n		Bring the family out for a fun day of Firearm Safety.
X-ALT-DESC;FMTTYPE=text/html:Come and have your youth learn the safe way to handle a wide variety of different firearms in a &quot\;Safe and Supervised&quot\; environment.&nbsp\;\n<ul>\n	<li>\n		Open the boys and girls age 17 and under.&nbsp\;</li>\n	<li>\n		Children <strong>MUST</strong> be accompanies by and adult.</li>\n	<li>\n		<strong>FREE</strong> lunch will be served.</li>\n	<li>\n		<span style="color: #ff0000"><strong>NO Personal Firearms allowed!</strong></span></li>\n	<li>\n		Bring your lawn chairs.</li>\n	<li>\n		Bring the family out for a fun day of Firearm Safety.</li>\n</ul>\n
LOCATION:Big Indian Lake 14 miles south of Beatrice\, 2 miles East of Hwy 8\, 1 mile north\, 1/2 mile East Follow Signs!
UID:e.41.6596
SEQUENCE:3
DTSTAMP:20260422T100222Z
URL:https://business.beatricechamber.com/events/details/jakes-day-08-18-2012-6596
END:VEVENT

END:VCALENDAR
