BEGIN:VCALENDAR
VERSION:2.0
PRODID:-//ChamberMaster//Event Calendar 2.0//EN
METHOD:PUBLISH
X-PUBLISHED-TTL:P3D
REFRESH-INTERVAL:P3D
CALSCALE:GREGORIAN
BEGIN:VEVENT
DTSTART;VALUE=DATE:20111013
DTEND;VALUE=DATE:20111014
TRANSP:TRANSPARENT
X-MICROSOFT-CDO-ALLDAYEVENT:TRUE
SUMMARY:Jam Session at Tigers Den
DESCRIPTION:Jam Session at Tiger's Den\, Odell\n\n\n\nThursday\, October 13\n\n6 - 9 pm\n\n\n\nsponsored by Old West Trails Center\n\n\n\nJammers\, listeners\, and dancing welcome!
X-ALT-DESC;FMTTYPE=text/html:Jam Session at Tiger&#39\;s Den\, Odell<br />\n<br />\nThursday\, October 13<br />\n6 - 9 pm<br />\n<br />\nsponsored by Old West Trails Center<br />\n<br />\nJammers\, listeners\, and dancing welcome!
LOCATION:
UID:e.41.5180
SEQUENCE:3
DTSTAMP:20260424T111235Z
URL:https://business.beatricechamber.com/events/details/jam-session-at-tigers-den-10-13-2011-5180
END:VEVENT

END:VCALENDAR
