BEGIN:VCALENDAR
VERSION:2.0
PRODID:-//ChamberMaster//Event Calendar 2.0//EN
METHOD:PUBLISH
X-PUBLISHED-TTL:P3D
REFRESH-INTERVAL:P3D
CALSCALE:GREGORIAN
BEGIN:VEVENT
DTSTART;VALUE=DATE:20090716
DTEND;VALUE=DATE:20090720
TRANSP:TRANSPARENT
X-MICROSOFT-CDO-ALLDAYEVENT:TRUE
SUMMARY:Jefferson County Fair
DESCRIPTION:"Come Party with the Animals" - Jefferson County Fair Theme Saturday\, 18th - Wing Night at the Fair sponsored by Fairbury Chamber of Commerce 5-7 pm& Grandstand entertainment "The Yeary's" from Branson.
X-ALT-DESC;FMTTYPE=text/html:<div>&quot\;Come Party with the Animals&quot\; - Jefferson County Fair Theme</div><div>&nbsp\;</div><div>Saturday\, 18th - Wing Night at the Fair sponsored by Fairbury Chamber of Commerce 5-7 pm</div><div>&amp\; Grandstand entertainment &quot\;The Yeary's&quot\; from Branson.</div>
LOCATION:
UID:e.41.1286
SEQUENCE:3
DTSTAMP:20260426T025942Z
URL:https://business.beatricechamber.com/events/details/jefferson-county-fair-07-16-2009-1286
END:VEVENT

END:VCALENDAR
