BEGIN:VCALENDAR
VERSION:2.0
PRODID:-//ChamberMaster//Event Calendar 2.0//EN
METHOD:PUBLISH
X-PUBLISHED-TTL:P3D
REFRESH-INTERVAL:P3D
CALSCALE:GREGORIAN
BEGIN:VEVENT
DTSTART:20110916T230000Z
DTEND:20110917T040000Z
X-MICROSOFT-CDO-ALLDAYEVENT:FALSE
SUMMARY:Jet Racing Hot Rod Reunion Cruise & Shine
DESCRIPTION:The cruise departs at 6 PM from Jet Racing at Hwy 77 and Sargent Rd in Beatrice.  The cruise ends at John & Tracy Saathoff's house on South Hwy 77 for a soup supper and meet & greet.  A trophy will be awarded for favorite cruise participant.  A cruise map is available at Jet Racing.  See Dean's Pikes Peak Racing Truck on Saturday at the show!
X-ALT-DESC;FMTTYPE=text/html:The cruise departs at 6&nbsp\;PM from Jet Racing&nbsp\;at Hwy 77 and Sargent Rd in Beatrice.&nbsp\; The cruise ends at John &amp\; Tracy Saathoff&#39\;s house on South Hwy 77 for a soup supper and meet&nbsp\;&amp\; greet.&nbsp\; A trophy will be awarded for favorite cruise participant.&nbsp\; A cruise map is available at Jet Racing.&nbsp\; See Dean&#39\;s Pikes Peak Racing Truck on Saturday at the show!
LOCATION:Jet Racing: 414 Sargent St Beatrice\, NE John & Tracy Saathoff: 29738 US HWY 77 Beatrice\, NE
UID:e.41.5071
SEQUENCE:3
DTSTAMP:20260424T123356Z
URL:https://business.beatricechamber.com/events/details/jet-racing-hot-rod-reunion-cruise-shine-09-16-2011-5071
END:VEVENT

END:VCALENDAR
