BEGIN:VCALENDAR
VERSION:2.0
PRODID:-//ChamberMaster//Event Calendar 2.0//EN
METHOD:PUBLISH
X-PUBLISHED-TTL:P3D
REFRESH-INTERVAL:P3D
CALSCALE:GREGORIAN
BEGIN:VEVENT
DTSTART:20111203T180000Z
DTEND:20111203T230000Z
X-MICROSOFT-CDO-ALLDAYEVENT:FALSE
SUMMARY:Job Fair
DESCRIPTION:Job Fair\n\n\n\nSaturday\, December 3\n\nNoon - 5 pm\n\n\n\nBeatrice Public Library\n\n\n\nSpherion\, Hiring for Exmark - assemblers\, part pullers\, welders.\n\n\n\nCall 402-464-2700 with questions.
X-ALT-DESC;FMTTYPE=text/html:Job Fair<br />\n<br />\nSaturday\, December 3<br />\nNoon - 5 pm<br />\n<br />\nBeatrice Public Library<br />\n<br />\nSpherion\, Hiring for Exmark - assemblers\, part pullers\, welders.<br />\n<br />\nCall 402-464-2700 with questions.
LOCATION:
UID:e.41.5266
SEQUENCE:3
DTSTAMP:20260424T082845Z
URL:https://business.beatricechamber.com/events/details/job-fair-12-03-2011-5266
END:VEVENT

END:VCALENDAR
