BEGIN:VCALENDAR
VERSION:2.0
PRODID:-//ChamberMaster//Event Calendar 2.0//EN
METHOD:PUBLISH
X-PUBLISHED-TTL:P3D
REFRESH-INTERVAL:P3D
CALSCALE:GREGORIAN
BEGIN:VEVENT
DTSTART:20111210T150000Z
DTEND:20111210T190000Z
X-MICROSOFT-CDO-ALLDAYEVENT:FALSE
SUMMARY:Job Opportunity
DESCRIPTION:Human Resource Representatives from the BSDC will be welcoming interested applicants to visit BSDC from 9am-1pm.  Applicants can complete the assessment\, application process and take a BSDC tour.  BSDC offers competitive wages and generous benefits! \n\n	\n\n	Apply on-line at statejobs.nebraska.gov or visit BSDC on 12/10/11 from 9am-1pm.
X-ALT-DESC;FMTTYPE=text/html:<p>\n	Human Resource Representatives from the BSDC will be welcoming interested applicants to visit BSDC from 9am-1pm.&nbsp\; Applicants can complete the assessment\, application process and take a BSDC tour.&nbsp\; BSDC offers competitive wages and generous benefits!&nbsp\;<br />\n	<br />\n	Apply on-line at statejobs.nebraska.gov or&nbsp\;visit BSDC on 12/10/11 from 9am-1pm.&nbsp\;</p>\n
LOCATION:Beatrice State Developmental Center
UID:e.41.5271
SEQUENCE:3
DTSTAMP:20260424T082931Z
URL:https://business.beatricechamber.com/events/details/job-opportunity-12-10-2011-5271
END:VEVENT

END:VCALENDAR
