BEGIN:VCALENDAR
VERSION:2.0
PRODID:-//ChamberMaster//Event Calendar 2.0//EN
METHOD:PUBLISH
X-PUBLISHED-TTL:P3D
REFRESH-INTERVAL:P3D
CALSCALE:GREGORIAN
BEGIN:VEVENT
DTSTART:20110907T140000Z
DTEND:20110907T170000Z
X-MICROSOFT-CDO-ALLDAYEVENT:FALSE
SUMMARY:Job Search Workshop
DESCRIPTION:Job Search workshops available to anyone that is interested.  The first Wednesday of each month at 9:00 am and the third Wednesday of each month at 1:30 pm.   Topics covered:  resume preparation\, how to complete applications\, and interviewing skills.
X-ALT-DESC;FMTTYPE=text/html:Job Search workshops available to anyone that is interested.&nbsp\; The first Wednesday of each month at 9:00 am and the third Wednesday of each month at 1:30 pm.&nbsp\;&nbsp\; Topics covered:&nbsp\; resume preparation\, how to complete applications\, and interviewing skills.
LOCATION:Southeast Community College\, Adam's Hall
UID:e.41.5092
SEQUENCE:3
DTSTAMP:20260424T122825Z
URL:https://business.beatricechamber.com/events/details/job-search-workshop-09-07-2011-5092
END:VEVENT

END:VCALENDAR
