BEGIN:VCALENDAR
VERSION:2.0
PRODID:-//ChamberMaster//Event Calendar 2.0//EN
METHOD:PUBLISH
X-PUBLISHED-TTL:P3D
REFRESH-INTERVAL:P3D
CALSCALE:GREGORIAN
BEGIN:VEVENT
DTSTART;VALUE=DATE:20100326
DTEND;VALUE=DATE:20100327
TRANSP:TRANSPARENT
X-MICROSOFT-CDO-ALLDAYEVENT:TRUE
SUMMARY:Job Search Workshop 3/26/10
DESCRIPTION:Job Search Workshop(Workforce Development\, Department of Labor) 9 a.m.Southeast Community College - One Stop Center/Adams HallBeatrice\, NE No charge. If you have a resume started\, bring it with you.  If not\, we'll get one started and provide informaiton on other tools to help you get hired.  For more information\, call Mark McDonald at 402-223-6087
X-ALT-DESC;FMTTYPE=text/html:<div>Job Search Workshop</div><div>(Workforce Development\, Department of Labor)</div><div>&nbsp\;</div><div>9 a.m.</div><div>Southeast Community College - One Stop Center/Adams Hall</div><div>Beatrice\, NE</div><div>&nbsp\;</div><div>No charge.</div><div>&nbsp\;</div><div>If you have a resume started\, bring it with you.&nbsp\; If not\, we'll get one started and provide informaiton on other tools to help you get hired.&nbsp\; For more information\, call Mark McDonald at 402-223-6087</div><div>&nbsp\;</div><div>&nbsp\;</div>
LOCATION:
UID:e.41.1941
SEQUENCE:3
DTSTAMP:20260425T154525Z
URL:https://business.beatricechamber.com/events/details/job-search-workshop-3-26-10-03-26-2010-1941
END:VEVENT

END:VCALENDAR
