BEGIN:VCALENDAR
VERSION:2.0
PRODID:-//ChamberMaster//Event Calendar 2.0//EN
METHOD:PUBLISH
X-PUBLISHED-TTL:P3D
REFRESH-INTERVAL:P3D
CALSCALE:GREGORIAN
BEGIN:VEVENT
DTSTART;VALUE=DATE:20110222
DTEND;VALUE=DATE:20110223
TRANSP:TRANSPARENT
X-MICROSOFT-CDO-ALLDAYEVENT:TRUE
SUMMARY:John Deere Historian to visit Homestead National Monument
DESCRIPTION:John Deere Historian to visit Homestead National Monument of America:\n\n	Chris Boyens from John Deere Historic Site in Grand Detour\, IL\n\n	\n\n	Tuesday\, February 22\n\n	7:00 pm\n\n	\n\n	Homestead National Monument of America\n\n	Education Center\n\n	\n\n	For more information\, visit www.nps.gov/home or call (402)223-3514.  Current hours of operation are from 8:30 a.m. to 5 p.m. Monday thru Friday and 9 a.m. to 5 p.m. on Saturday and Sunday.  Admission is free of charge.
X-ALT-DESC;FMTTYPE=text/html:<p>\n	John Deere Historian to visit Homestead National Monument of America:<br />\n	Chris Boyens from John Deere Historic Site in Grand Detour\, IL<br />\n	<br />\n	Tuesday\, February 22<br />\n	7:00 pm<br />\n	<br />\n	Homestead National Monument of America<br />\n	Education Center<br />\n	<br />\n	For more information\, visit <a href="http://www.nps.gov/home">www.nps.gov/home</a> or call (402)223-3514.&nbsp\; Current hours of operation are from 8:30 a.m. to 5 p.m. Monday thru Friday and 9 a.m. to 5 p.m. on Saturday and Sunday.&nbsp\; Admission is free of charge.</p>\n
LOCATION:
UID:e.41.4184
SEQUENCE:3
DTSTAMP:20260424T225911Z
URL:https://business.beatricechamber.com/events/details/john-deere-historian-to-visit-homestead-national-monument-02-22-2011-4184
END:VEVENT

END:VCALENDAR
