BEGIN:VCALENDAR
VERSION:2.0
PRODID:-//ChamberMaster//Event Calendar 2.0//EN
METHOD:PUBLISH
X-PUBLISHED-TTL:P3D
REFRESH-INTERVAL:P3D
CALSCALE:GREGORIAN
BEGIN:VEVENT
DTSTART:20110416T130000Z
DTEND:20110416T220000Z
X-MICROSOFT-CDO-ALLDAYEVENT:FALSE
SUMMARY:Jolene and Shirleen's Spring Fling
DESCRIPTION:Spring and Easter decorations \n\nSugar Eggs\n\nScarves\n\nChairs\n\nand Much\, Much More
X-ALT-DESC;FMTTYPE=text/html:Spring and Easter decorations \n<br>Sugar Eggs\n<br>Scarves\n<br>Chairs\n<br>and Much\, Much More
LOCATION:1922 Irving (right east of 19th Street)
UID:e.41.4578
SEQUENCE:3
DTSTAMP:20260424T195942Z
URL:https://business.beatricechamber.com/events/details/jolene-and-shirleen-s-spring-fling-04-16-2011-4578
END:VEVENT

END:VCALENDAR
