BEGIN:VCALENDAR
VERSION:2.0
PRODID:-//ChamberMaster//Event Calendar 2.0//EN
METHOD:PUBLISH
X-PUBLISHED-TTL:P3D
REFRESH-INTERVAL:P3D
CALSCALE:GREGORIAN
BEGIN:VEVENT
DTSTART;VALUE=DATE:20110618
DTEND;VALUE=DATE:20110620
TRANSP:TRANSPARENT
X-MICROSOFT-CDO-ALLDAYEVENT:TRUE
SUMMARY:June Bug Jam girls softball tournament
DESCRIPTION:A USSSA World Series qualifying girls fastpitch softball tournament will be held in Beatrice on June 18 and 19 at Hannibal Park. Called the JuneBug Jam the cost for each team is just $180.00 to enter for a 4 game guarantee\, it will be 3 pool into single elimination. Teams must be registered with USSSA to play. Admission for adults is $5 per day\, $3 per day for kids 6U-15U and Seniors\, kids 5U are FREE. Awesome t-shirts for sale at $15 per shirt. Approximate times will be Saturday 9 am to 8 pm and Sunday 9 am to 6 pm.
X-ALT-DESC;FMTTYPE=text/html:A USSSA World Series qualifying girls fastpitch softball tournament&nbsp\;will be held in Beatrice on June 18 and 19 at Hannibal Park. Called the JuneBug Jam the cost for each team is just $180.00 to enter for a 4 game guarantee\, it will be 3 pool into single elimination. Teams must be registered with USSSA to play. Admission for adults is $5 per day\, $3 per day for kids 6U-15U and Seniors\, kids 5U are FREE. Awesome t-shirts for sale at $15 per shirt. Approximate times will be Saturday 9 am to 8 pm and Sunday 9 am to 6 pm.
LOCATION:Hannibal Park in Beatrice\, Ne
UID:e.41.4838
SEQUENCE:3
DTSTAMP:20260424T165907Z
URL:https://business.beatricechamber.com/events/details/june-bug-jam-girls-softball-tournament-06-18-2011-4838
END:VEVENT

END:VCALENDAR
