BEGIN:VCALENDAR
VERSION:2.0
PRODID:-//ChamberMaster//Event Calendar 2.0//EN
METHOD:PUBLISH
X-PUBLISHED-TTL:P3D
REFRESH-INTERVAL:P3D
CALSCALE:GREGORIAN
BEGIN:VEVENT
DTSTART;VALUE=DATE:20090715
DTEND;VALUE=DATE:20090721
TRANSP:TRANSPARENT
X-MICROSOFT-CDO-ALLDAYEVENT:TRUE
SUMMARY:Junior Legion Baseball District Tournament
DESCRIPTION:Junior Legion baseball players from the Region will converge at Christenson Field for the Class B\, Area 1 District Baseball Tournament.  Games begin Wednesday & Thursday at 11:00 am and continue in the afternoon and evenings on Friday\, Saturday\, Sunday and Monday with the Championship game(s).  Join us and support our young baseball players.
X-ALT-DESC;FMTTYPE=text/html:<div>Junior Legion baseball players from the Region will converge at Christenson Field for the Class B\, Area 1 District Baseball Tournament.&nbsp\; Games begin Wednesday &amp\; Thursday at 11:00 am and continue in the afternoon and evenings on Friday\, Saturday\, Sunday and Monday with the Championship game(s).&nbsp\; Join us and support our young baseball players.&nbsp\;&nbsp\;</div>
LOCATION:
UID:e.41.1290
SEQUENCE:3
DTSTAMP:20260426T030126Z
URL:https://business.beatricechamber.com/events/details/junior-legion-baseball-district-tournament-07-15-2009-1290
END:VEVENT

END:VCALENDAR
