BEGIN:VCALENDAR
VERSION:2.0
PRODID:-//ChamberMaster//Event Calendar 2.0//EN
METHOD:PUBLISH
X-PUBLISHED-TTL:P3D
REFRESH-INTERVAL:P3D
CALSCALE:GREGORIAN
BEGIN:VEVENT
DTSTART;VALUE=DATE:20090713
DTEND;VALUE=DATE:20090716
TRANSP:TRANSPARENT
X-MICROSOFT-CDO-ALLDAYEVENT:TRUE
SUMMARY:Junior PGA Golf Tournament
DESCRIPTION:Junior PGA Golf TournamentBeatrice Country ClubMonday - WednesdayJuly 13-15th\, 2009
X-ALT-DESC;FMTTYPE=text/html:<div>Junior PGA Golf Tournament</div><div>Beatrice Country Club</div><div>Monday - Wednesday</div><div>July 13-15th\, 2009</div><div>&nbsp\;</div><div>&nbsp\;</div>
LOCATION:
UID:e.41.1291
SEQUENCE:3
DTSTAMP:20260426T030045Z
URL:https://business.beatricechamber.com/events/details/junior-pga-golf-tournament-07-13-2009-1291
END:VEVENT

END:VCALENDAR
