BEGIN:VCALENDAR
VERSION:2.0
PRODID:-//ChamberMaster//Event Calendar 2.0//EN
METHOD:PUBLISH
X-PUBLISHED-TTL:P3D
REFRESH-INTERVAL:P3D
CALSCALE:GREGORIAN
BEGIN:VEVENT
DTSTART;VALUE=DATE:20111125
DTEND;VALUE=DATE:20111128
TRANSP:TRANSPARENT
X-MICROSOFT-CDO-ALLDAYEVENT:TRUE
SUMMARY:Junior Rangers at Homestead National Monument
DESCRIPTION:Homestead offering kids' activities during Thanksgiving holiday weekend\n\n\n\nParents and grandparents invited to bring children or grandchildren to Homestead National Monument of America to become Junior Rangers during the Thanksgiving holiday weekend\, Friday through Sunday\, November 25-27.\n\n\n\nAdmission is free of charge.  For additional information\, call 402-223-3514 or visit http://www.nps.gov/home/index.htm
X-ALT-DESC;FMTTYPE=text/html:Homestead offering kids&#39\; activities during Thanksgiving holiday weekend<br />\n<br />\nParents and grandparents invited to bring children or grandchildren to Homestead National Monument of America to become Junior Rangers during the Thanksgiving holiday weekend\, Friday through Sunday\, November 25-27.<br />\n<br />\nAdmission is free of charge.&nbsp\; For additional information\, call 402-223-3514 or visit http://www.nps.gov/home/index.htm<br />\n<br />\n
LOCATION:
UID:e.41.5239
SEQUENCE:3
DTSTAMP:20260424T111707Z
URL:https://business.beatricechamber.com/events/details/junior-rangers-at-homestead-national-monument-11-25-2011-5239
END:VEVENT

END:VCALENDAR
