BEGIN:VCALENDAR
VERSION:2.0
PRODID:-//ChamberMaster//Event Calendar 2.0//EN
METHOD:PUBLISH
X-PUBLISHED-TTL:P3D
REFRESH-INTERVAL:P3D
CALSCALE:GREGORIAN
BEGIN:VEVENT
DTSTART;VALUE=DATE:20110101
DTEND;VALUE=DATE:20110102
TRANSP:TRANSPARENT
X-MICROSOFT-CDO-ALLDAYEVENT:TRUE
SUMMARY:Karaoke with Underground Entertainment @ American Legion Club
DESCRIPTION:Karaoke with Underground Entertainment\n\nAmerican Legion Club\n\n7th & Dorsey\, Beatrice\n\n\n\n\n\nJanuary 1st - Open New Year's Day 10 a.m. - 11 p.m.\n\n\n\n6 p.m. - Close - Karaoke
X-ALT-DESC;FMTTYPE=text/html:Karaoke with Underground Entertainment<br />\nAmerican Legion Club<br />\n7th &amp\; Dorsey\, Beatrice<br />\n<br />\n<br />\nJanuary 1st - Open New Year&#39\;s Day 10 a.m. - 11 p.m.<br />\n<br />\n6 p.m. - Close - Karaoke
LOCATION:
UID:e.41.3156
SEQUENCE:3
DTSTAMP:20260425T004018Z
URL:https://business.beatricechamber.com/events/details/karaoke-with-underground-entertainment-american-legion-club-01-01-2011-3156
END:VEVENT

END:VCALENDAR
