BEGIN:VCALENDAR
VERSION:2.0
PRODID:-//ChamberMaster//Event Calendar 2.0//EN
METHOD:PUBLISH
X-PUBLISHED-TTL:P3D
REFRESH-INTERVAL:P3D
CALSCALE:GREGORIAN
BEGIN:VEVENT
DTSTART:20090714T120000Z
DTEND:20090714T130000Z
X-MICROSOFT-CDO-ALLDAYEVENT:FALSE
SUMMARY:Keep Beatrice Beautiful Board Meeting
DESCRIPTION:Keep Beatrice Beautiful monthly board meetingTuesday\, July 14\, 20097:00 amBeatrice City Auditorium205 N 4th St
X-ALT-DESC;FMTTYPE=text/html:<div>Keep Beatrice Beautiful monthly board meeting</div><div>Tuesday\, July 14\, 2009</div><div>7:00 am</div><div>Beatrice City Auditorium</div><div>205 N 4th St</div>
LOCATION:
UID:e.41.1287
SEQUENCE:3
DTSTAMP:20260426T030009Z
URL:https://business.beatricechamber.com/events/details/keep-beatrice-beautiful-board-meeting-07-14-2009-1287
END:VEVENT

END:VCALENDAR
