BEGIN:VCALENDAR
VERSION:2.0
PRODID:-//ChamberMaster//Event Calendar 2.0//EN
METHOD:PUBLISH
X-PUBLISHED-TTL:P3D
REFRESH-INTERVAL:P3D
CALSCALE:GREGORIAN
BEGIN:VEVENT
DTSTART;VALUE=DATE:20110407
DTEND;VALUE=DATE:20110408
TRANSP:TRANSPARENT
X-MICROSOFT-CDO-ALLDAYEVENT:TRUE
SUMMARY:Keeping Customers Workshop
DESCRIPTION:Keeping Customers \n\n(How to turn the tough customers into your best customers!)\n\nWorkshop presented by Bill Drury\n\n\n\nThursday\, April 7\n\n8 am - 11 am\, Morning Session\n\nNoon - 3 pm\, Afternoon Session\n\nat Holiday Inn Express & Suites\, 4005 N 6th Street\, Beatrice\n\n\n\n\n\nsponsored by Beatrice Daily Sun\, Beatrice 1450 KWBE & KUTT 99.5 FM\n\n\n\nFor more information & to register\, contact\n\nBeatrice Area Chamber of Commerce\n\n205 N 4th Street - Beatrice\n\n(402)223-2338\n\n\n\nClick here for registration form
X-ALT-DESC;FMTTYPE=text/html:&nbsp\;<span style="font-size: 20px"><span style="font-weight: bold\; language: en-us"><span style="font-family: times-bold">Keeping Customers</span></span><span style="font-weight: bold\; language: en-us"><span style="font-family: times-bold">&trade\;</span></span></span><br />\n<span style="font-size: 14px"><span style="font-weight: bold\; language: en-us"><span style="font-family: times-bold">(How to turn the tough customers into your best customers!)<br />\n<span style="font-size: 18px">Workshop presented by Bill Drury</span><br />\n<br />\n<span style="font-size: 18px">Thursday\, April 7<br />\n8 am - 11 am\, Morning Session<br />\nNoon - 3 pm\, Afternoon Session<br />\n<span style="font-size: 12px">at Holiday Inn Express &amp\; Suites\, 4005 N 6th Street\, Beatrice</span></span><br />\n<br />\n<br />\nsponsored by Beatrice Daily Sun\, Beatrice 1450 KWBE &amp\; KUTT 99.5 FM<br />\n<br />\nFor more information &amp\; to register\, contact<br />\nBeatrice Area Chamber of Commerce<br />\n205 N 4th Street - Beatrice<br />\n(402)223-2338<br />\n<br />\n<a href="http://assets.colenient.com/images/articles/3/lunchlearn/3-bill_drury_flyer_2011.pdf">Click here for registration form</a></span></span></span><br />\n&nbsp\;<br />\n
LOCATION:
UID:e.41.4190
SEQUENCE:3
DTSTAMP:20260424T194810Z
URL:https://business.beatricechamber.com/events/details/keeping-customers-workshop-04-07-2011-4190
END:VEVENT

END:VCALENDAR
