BEGIN:VCALENDAR
VERSION:2.0
PRODID:-//ChamberMaster//Event Calendar 2.0//EN
METHOD:PUBLISH
X-PUBLISHED-TTL:P3D
REFRESH-INTERVAL:P3D
CALSCALE:GREGORIAN
BEGIN:VEVENT
DTSTART;VALUE=DATE:20110429
DTEND;VALUE=DATE:20110430
TRANSP:TRANSPARENT
X-MICROSOFT-CDO-ALLDAYEVENT:TRUE
SUMMARY:Kelley Hunt in Concert at CP
DESCRIPTION:The Beatrice Area Arts Council\, with the support of The Hevelone Foundation presents\n\nKelley Hunt in concert.\n\n\n\nFriday\, April 29\n\n7:30 pm\n\n\n\nThe Community Players building\n\n412 Ella Street\n\nBeatrice\, NE  68310\n\n\n\nTickets are free-of-charge\, provided by a grant from The Hevelone Foundation.  Tickets are available only at the door.  Doors will open 30 minutes prior to the performance and seating is limited to the first 200.
X-ALT-DESC;FMTTYPE=text/html:The Beatrice Area Arts Council\, with the support of The Hevelone Foundation presents<br />\nKelley Hunt in concert.<br />\n<br />\nFriday\, April 29<br />\n7:30 pm<br />\n<br />\nThe Community Players building<br />\n412 Ella Street<br />\nBeatrice\, NE&nbsp\; 68310<br />\n<br />\nTickets are free-of-charge\, provided by a grant from The Hevelone Foundation.&nbsp\; Tickets are available only at the door.&nbsp\; Doors will open 30 minutes prior to the performance and seating is limited to the first 200.<br />\n<br />\n
LOCATION:
UID:e.41.4418
SEQUENCE:3
DTSTAMP:20260424T195820Z
URL:https://business.beatricechamber.com/events/details/kelley-hunt-in-concert-at-cp-04-29-2011-4418
END:VEVENT

END:VCALENDAR
