BEGIN:VCALENDAR
VERSION:2.0
PRODID:-//ChamberMaster//Event Calendar 2.0//EN
METHOD:PUBLISH
X-PUBLISHED-TTL:P3D
REFRESH-INTERVAL:P3D
CALSCALE:GREGORIAN
BEGIN:VEVENT
DTSTART;VALUE=DATE:20110617
DTEND;VALUE=DATE:20110618
TRANSP:TRANSPARENT
X-MICROSOFT-CDO-ALLDAYEVENT:TRUE
SUMMARY:Kenny Ahern Comedy Antics
DESCRIPTION:Kenny Ahern Comedy Antics at 6 p.m.\, family entertainer in Chautauqua Park\, Beatrice.
X-ALT-DESC;FMTTYPE=text/html:Kenny Ahern Comedy Antics at 6 p.m.\, family entertainer in Chautauqua Park\, Beatrice.
LOCATION:
UID:e.41.4887
SEQUENCE:3
DTSTAMP:20260424T165319Z
URL:https://business.beatricechamber.com/events/details/kenny-ahern-comedy-antics-06-17-2011-4887
END:VEVENT

END:VCALENDAR
