BEGIN:VCALENDAR
VERSION:2.0
PRODID:-//ChamberMaster//Event Calendar 2.0//EN
METHOD:PUBLISH
X-PUBLISHED-TTL:P3D
REFRESH-INTERVAL:P3D
CALSCALE:GREGORIAN
BEGIN:VEVENT
DTSTART:20091213T190000Z
DTEND:20091213T220000Z
X-MICROSOFT-CDO-ALLDAYEVENT:FALSE
SUMMARY:Kensington Christmas Open House
DESCRIPTION:The Kensington residents will open their rooms to the public for a Christmas open houseSunday\, December 13th from 1:00 pm - 4:00 pmRefreshments will be served. The Kensington is also hosting entertainer Johnny Ray Gomez performance was postponed from Wednesday\, December 9th.
X-ALT-DESC;FMTTYPE=text/html:<div>The Kensington residents will open their rooms to the public for a Christmas open house</div><div>Sunday\, December 13th from 1:00 pm - 4:00 pm</div><div>Refreshments will be served.</div><div>&nbsp\;</div><div>The Kensington is also hosting entertainer Johnny Ray Gomez performance was postponed from Wednesday\, December 9th.&nbsp\;</div>
LOCATION:
UID:e.41.1561
SEQUENCE:3
DTSTAMP:20260425T194215Z
URL:https://business.beatricechamber.com/events/details/kensington-christmas-open-house-12-13-2009-1561
END:VEVENT

END:VCALENDAR
