BEGIN:VCALENDAR
VERSION:2.0
PRODID:-//ChamberMaster//Event Calendar 2.0//EN
METHOD:PUBLISH
X-PUBLISHED-TTL:P3D
REFRESH-INTERVAL:P3D
CALSCALE:GREGORIAN
BEGIN:VEVENT
DTSTART:20090822T120000Z
DTEND:20090822T200000Z
X-MICROSOFT-CDO-ALLDAYEVENT:FALSE
SUMMARY:KGMT/KUTT Radio Auction
DESCRIPTION:Listen to the Live Radio Auction on KGMY/KUTT 99.5fmSaturday's in August (1st\, 8th\, 15th & 22nd)7:00 am - 3:00 pm For a complete list of items visit www.kutt99.5.com  (Some items available for online bidding)For more information call 402-729-3382 or email kutt@diodecom.net
X-ALT-DESC;FMTTYPE=text/html:<div>Listen to the Live Radio Auction on KGMY/KUTT 99.5fm</div><div>Saturday's in August (1st\, 8th\, 15th &amp\; 22nd)</div><div>7:00 am - 3:00 pm</div><div>&nbsp\;</div><div>For a complete list of items visit <a href="http://www.kutt99.5.com">www.kutt99.5.com</a>&nbsp\; (Some items available for online bidding)</div><div>For more information call 402-729-3382 or email <a href="mailto:kutt@diodecom.net">kutt@diodecom.net</a></div>
LOCATION:
UID:e.41.1352
SEQUENCE:3
DTSTAMP:20260426T012246Z
URL:https://business.beatricechamber.com/events/details/kgmt-kutt-radio-auction-08-22-2009-1352
END:VEVENT

END:VCALENDAR
