BEGIN:VCALENDAR
VERSION:2.0
PRODID:-//ChamberMaster//Event Calendar 2.0//EN
METHOD:PUBLISH
X-PUBLISHED-TTL:P3D
REFRESH-INTERVAL:P3D
CALSCALE:GREGORIAN
BEGIN:VEVENT
DTSTART:20110617T220000Z
DTEND:20110618T020000Z
X-MICROSOFT-CDO-ALLDAYEVENT:FALSE
SUMMARY:Kids Activities and Inflatables
DESCRIPTION:5-9 p.m. at Chautauqua Park\, Beatrice.  $5 for all rides\; $1 for single ride tickets.
X-ALT-DESC;FMTTYPE=text/html:<p>\n	5-9 p.m. at Chautauqua Park\, Beatrice.&nbsp\; $5 for all rides\; $1 for single ride tickets.</p>\n
LOCATION:
UID:e.41.4886
SEQUENCE:3
DTSTAMP:20260424T165630Z
URL:https://business.beatricechamber.com/events/details/kids-activities-and-inflatables-06-17-2011-4886
END:VEVENT

END:VCALENDAR
