BEGIN:VCALENDAR
VERSION:2.0
PRODID:-//ChamberMaster//Event Calendar 2.0//EN
METHOD:PUBLISH
X-PUBLISHED-TTL:P3D
REFRESH-INTERVAL:P3D
CALSCALE:GREGORIAN
BEGIN:VEVENT
DTSTART;VALUE=DATE:20110416
DTEND;VALUE=DATE:20110417
TRANSP:TRANSPARENT
X-MICROSOFT-CDO-ALLDAYEVENT:TRUE
SUMMARY:Kids Fun Run
DESCRIPTION:Beatrice High School is hosting a Fun Run for kids grades K-6\n\n\n\nSaturday\, April 16\n\n\n\nKindergarten and First Grade begin at 9 a.m with other grades to follow.\n\nRegistration begins at 8 am.\n\n\n\nThe cost of the race is $5.  Prizes will be given to the first three boy and girl finishers in each grade.\n\n\n\nFor more information\, contact Arnie Cerny at 402-520-3104.
X-ALT-DESC;FMTTYPE=text/html:Beatrice High School is hosting a Fun Run for kids grades K-6<br />\n<br />\nSaturday\, April 16<br />\n<br />\nKindergarten and First Grade begin at 9 a.m with other grades to follow.<br />\nRegistration begins at 8 am.<br />\n<br />\nThe cost of the race is $5.&nbsp\; Prizes will be given to the first three boy and girl finishers in each grade.<br />\n<br />\nFor more information\, contact Arnie Cerny at 402-520-3104.
LOCATION:
UID:e.41.4580
SEQUENCE:3
DTSTAMP:20260424T194942Z
URL:https://business.beatricechamber.com/events/details/kids-fun-run-04-16-2011-4580
END:VEVENT

END:VCALENDAR
