BEGIN:VCALENDAR
VERSION:2.0
PRODID:-//ChamberMaster//Event Calendar 2.0//EN
METHOD:PUBLISH
X-PUBLISHED-TTL:P3D
REFRESH-INTERVAL:P3D
CALSCALE:GREGORIAN
BEGIN:VEVENT
DTSTART:20110219T160000Z
DTEND:20110219T173000Z
X-MICROSOFT-CDO-ALLDAYEVENT:FALSE
SUMMARY:"Kids in Parks - Explore Your Winter World" program
DESCRIPTION:"Kids in Parks - Explore Your Winter World" Program\n\n\n\nSaturday\, February 19\n\n10 a.m. - 11:30 a.m.\n\n\n\nHomestead National Monument's Education Center\n\nParticipants will explore how animals survive during these cold months and learn valuable investigative tools.  (402)223-3514\n\n\n\nwww.nps.gov/home
X-ALT-DESC;FMTTYPE=text/html:&quot\;Kids in Parks - Explore Your Winter World&quot\; Program<br />\n<br />\nSaturday\, February 19<br />\n10 a.m. - 11:30 a.m.<br />\n<br />\nHomestead National Monument&#39\;s Education Center<br />\nParticipants will explore how animals survive during these cold months and learn valuable investigative tools.&nbsp\; (402)223-3514<br />\n<br />\nwww.nps.gov/home<br />\n<br />\n
LOCATION:
UID:e.41.4186
SEQUENCE:3
DTSTAMP:20260424T225551Z
URL:https://business.beatricechamber.com/events/details/kids-in-parks-explore-your-winter-world-program-02-19-2011-4186
END:VEVENT

END:VCALENDAR
