BEGIN:VCALENDAR
VERSION:2.0
PRODID:-//ChamberMaster//Event Calendar 2.0//EN
METHOD:PUBLISH
X-PUBLISHED-TTL:P3D
REFRESH-INTERVAL:P3D
CALSCALE:GREGORIAN
BEGIN:VEVENT
DTSTART;VALUE=DATE:20110514
DTEND;VALUE=DATE:20110515
TRANSP:TRANSPARENT
X-MICROSOFT-CDO-ALLDAYEVENT:TRUE
SUMMARY:Kids to Parks Day @ Homestead National Monument
DESCRIPTION:Join kids from across the country and visit Homestead National Monument of America\, your local National Park Service site\, on Celebrate National Kids to Parks Day.\n\n\n\nSaturday\, May 14\n\n\n\nPark Rangers will engage all who come in exploring the sights and sounds of spring at the Monument.  Take a hike\, check out a bird nature pack to learn area bird calls and enjoy the spring wildflowers.  Ask a park ranger about Geocaching and our Earthcache\, and listen to the cell phone tour stops throughout the monument.\n\n\n\nFor information\, call 402-223-3514 or visit www.nps.gov/home.  Homestead National Monument of America is a unit of the National Park Service\, located four miles west of Beatrice.
X-ALT-DESC;FMTTYPE=text/html:Join kids from across the country and visit Homestead National Monument of America\, your local National Park Service site\, on Celebrate National Kids to Parks Day.<br />\n<br />\nSaturday\, May 14<br />\n<br />\nPark Rangers will engage all who come in exploring the sights and sounds of spring at the Monument.&nbsp\; Take a hike\, check out a bird nature pack to learn area bird calls and enjoy the spring wildflowers.&nbsp\; Ask a park ranger about Geocaching and our Earthcache\, and listen to the cell phone tour stops throughout the monument.<br />\n<br />\nFor information\, call 402-223-3514 or visit <a href="http://www.nps.gov/home">www.nps.gov/home</a>.&nbsp\; Homestead National Monument of America is a unit of the National Park Service\, located four miles west of Beatrice.
LOCATION:
UID:e.41.4822
SEQUENCE:3
DTSTAMP:20260424T183904Z
URL:https://business.beatricechamber.com/events/details/kids-to-parks-day-homestead-national-monument-05-14-2011-4822
END:VEVENT

END:VCALENDAR
