BEGIN:VCALENDAR
VERSION:2.0
PRODID:-//ChamberMaster//Event Calendar 2.0//EN
METHOD:PUBLISH
X-PUBLISHED-TTL:P3D
REFRESH-INTERVAL:P3D
CALSCALE:GREGORIAN
BEGIN:VEVENT
DTSTART:20120415T003000Z
DTEND:20120415T040000Z
X-MICROSOFT-CDO-ALLDAYEVENT:FALSE
SUMMARY:"King O' the Moon"
DESCRIPTION:Heartfelt comedic drama presents a family at a crossroads
X-ALT-DESC;FMTTYPE=text/html:Heartfelt comedic drama presents a family at a crossroads
LOCATION:Beatrice Community Players Theater\, 412 Ella Street\, Beatrice
UID:e.41.5448
SEQUENCE:3
DTSTAMP:20260422T154639Z
URL:https://business.beatricechamber.com/events/details/king-o-the-moon-04-14-2012-5448
END:VEVENT

END:VCALENDAR
