BEGIN:VCALENDAR
VERSION:2.0
PRODID:-//ChamberMaster//Event Calendar 2.0//EN
METHOD:PUBLISH
X-PUBLISHED-TTL:P3D
REFRESH-INTERVAL:P3D
CALSCALE:GREGORIAN
BEGIN:VEVENT
DTSTART:20100207T133000Z
DTEND:20100207T190000Z
X-MICROSOFT-CDO-ALLDAYEVENT:FALSE
SUMMARY:Kiwanis Pancake Feed
DESCRIPTION:Kiwanis Pancake Feed Pancakes\, eggs\, sausage\, juice\, milk or coffee will be served.Proceeds to benefit Beatrice area youth projects.
X-ALT-DESC;FMTTYPE=text/html:<div><span style="font-size: medium">Kiwanis Pancake Feed</span></div><div>&nbsp\;</div><div><span style="font-size: medium">Pancakes\, eggs\, sausage\, juice\, milk or coffee will be served.</span></div><div><span style="font-size: medium">Proceeds to benefit Beatrice area youth projects.</span></div><div>&nbsp\;</div>
LOCATION:American Legion701 DorseyBeatrice\, NE
UID:e.41.1585
SEQUENCE:3
DTSTAMP:20260425T164424Z
URL:https://business.beatricechamber.com/events/details/kiwanis-pancake-feed-02-07-2010-1585
END:VEVENT

END:VCALENDAR
