BEGIN:VCALENDAR
VERSION:2.0
PRODID:-//ChamberMaster//Event Calendar 2.0//EN
METHOD:PUBLISH
X-PUBLISHED-TTL:P3D
REFRESH-INTERVAL:P3D
CALSCALE:GREGORIAN
BEGIN:VEVENT
DTSTART:20091101T133000Z
DTEND:20091101T190000Z
X-MICROSOFT-CDO-ALLDAYEVENT:FALSE
SUMMARY:Kiwanis Pancake Feed
DESCRIPTION:Homestead Early Risers Kiwanis ClubPancake FeedPancakes\, Eggs\, Sausage\, Juice\, Coffee\, Milk Proceeds to benefitMother to Mother Ministries American Legion Post 27701 Dorsey StBeatrice TIcket Prices:Adults $5 - $6 at the doorChildren (thru age 12)  $2.50 - $3 at the doorChildren 3 & Under - free TIckets available at:Burwood Books\, 111 S 5th StBank of the West\, FIrst National Bank of Omaha\, Pinnacle Bank\,Security First Bank\, TierONe Bank\, & US Bank
X-ALT-DESC;FMTTYPE=text/html:<div><strong>Homestead Early Risers Kiwanis Club</strong></div><div><strong>Pancake Feed</strong></div><div>Pancakes\, Eggs\, Sausage\, Juice\, Coffee\, Milk</div><div>&nbsp\;</div><div><em>Proceeds to benefit</em></div><div><em>Mother to Mother Ministries</em></div><div>&nbsp\;</div><div>American Legion Post 27</div><div>701 Dorsey St</div><div>Beatrice</div><div>&nbsp\;</div><div>TIcket Prices:</div><div>Adults $5 - $6 at the door</div><div>Children (thru age 12)&nbsp\; $2.50 - $3 at the door</div><div>Children 3 &amp\; Under - free</div><div>&nbsp\;</div><div>TIckets available at:</div><div>Burwood Books\, 111 S 5th St</div><div>Bank of the West\, FIrst National Bank of Omaha\, Pinnacle Bank\,</div><div>Security First Bank\, TierONe Bank\, &amp\;&nbsp\;US&nbsp\;Bank</div>
LOCATION:
UID:e.41.1466
SEQUENCE:3
DTSTAMP:20260425T204559Z
URL:https://business.beatricechamber.com/events/details/kiwanis-pancake-feed-11-01-2009-1466
END:VEVENT

END:VCALENDAR
