BEGIN:VCALENDAR
VERSION:2.0
PRODID:-//ChamberMaster//Event Calendar 2.0//EN
METHOD:PUBLISH
X-PUBLISHED-TTL:P3D
REFRESH-INTERVAL:P3D
CALSCALE:GREGORIAN
BEGIN:VEVENT
DTSTART;VALUE=DATE:20101204
DTEND;VALUE=DATE:20101205
TRANSP:TRANSPARENT
X-MICROSOFT-CDO-ALLDAYEVENT:TRUE
SUMMARY:Klecan soup supper benefit
DESCRIPTION:Klecan soup supper benefit:\n\n\n\nBeginning at 5 p.m.\, in conjunction with Diller-Odell and HTRS basketball games at the high school in Odell. Sponsored by Diller-Odell National Honor Society\, Studebt Council and DOSADA\, to assist art instructor Cathie Klecan with medical bills. Chili or chicken noodle soup\; dessert bars. Freewill donation. Wear "Think Pink" T-shirts or other pink attire.
X-ALT-DESC;FMTTYPE=text/html:<strong><span style="font-size: 14px\;">Klecan soup supper benefit:</span><br />\n<br />\nBeginning at 5 p.m.\, in conjunction with Diller-Odell and HTRS basketball games at the high school in Odell. Sponsored by Diller-Odell National Honor Society\, Studebt Council and DOSADA\, to assist art instructor Cathie Klecan with medical bills. Chili or chicken noodle soup\; dessert bars. Freewill donation. Wear &quot\;Think Pink&quot\; T-shirts or other pink attire.</strong><br />\n
LOCATION:
UID:e.41.2884
SEQUENCE:3
DTSTAMP:20260425T014134Z
URL:https://business.beatricechamber.com/events/details/klecan-soup-supper-benefit-12-04-2010-2884
END:VEVENT

END:VCALENDAR
