BEGIN:VCALENDAR
VERSION:2.0
PRODID:-//ChamberMaster//Event Calendar 2.0//EN
METHOD:PUBLISH
X-PUBLISHED-TTL:P3D
REFRESH-INTERVAL:P3D
CALSCALE:GREGORIAN
BEGIN:VEVENT
DTSTART;VALUE=DATE:20120105
DTEND;VALUE=DATE:20120106
TRANSP:TRANSPARENT
X-MICROSOFT-CDO-ALLDAYEVENT:TRUE
SUMMARY:Knights of Columbus Free Throw Contest
DESCRIPTION:The annual Knights of Columbus Free Throw contest will be held at the St. Joseph Catholic School gym. Registration is open to all boys and girls ages 10-14 as of Jan. 1 2012.\n\nFor more information contact Michael Policky 402-228-4642
X-ALT-DESC;FMTTYPE=text/html:The annual Knights of Columbus Free Throw contest will be held at the St. Joseph Catholic School gym. Registration is open to all boys and girls ages 10-14 as of Jan. 1 2012.<br />\nFor more information contact Michael Policky 402-228-4642
LOCATION:
UID:e.41.5273
SEQUENCE:3
DTSTAMP:20260422T203026Z
URL:https://business.beatricechamber.com/events/details/knights-of-columbus-free-throw-contest-01-05-2012-5273
END:VEVENT

END:VCALENDAR
