BEGIN:VCALENDAR
VERSION:2.0
PRODID:-//ChamberMaster//Event Calendar 2.0//EN
METHOD:PUBLISH
X-PUBLISHED-TTL:P3D
REFRESH-INTERVAL:P3D
CALSCALE:GREGORIAN
BEGIN:VEVENT
DTSTART;VALUE=DATE:20111002
DTEND;VALUE=DATE:20111003
TRANSP:TRANSPARENT
X-MICROSOFT-CDO-ALLDAYEVENT:TRUE
SUMMARY:Komen Nebraska Race for the Cure(R)
DESCRIPTION:"Link the Pink"\n\nStronger together in 2011\n\nFor registration information please log onto www.komennebraska.org.
X-ALT-DESC;FMTTYPE=text/html:&quot\;Link the Pink&quot\;<br />\nStronger together in 2011<br />\nFor registration information please log onto <a href="http://www.komennebraska.org">www.komennebraska.org</a>. 
LOCATION:Qwest Center Omaha\, Nebraska
UID:e.41.4592
SEQUENCE:3
DTSTAMP:20260424T111544Z
URL:https://business.beatricechamber.com/events/details/komen-nebraska-race-for-the-cure-r-10-02-2011-4592
END:VEVENT

END:VCALENDAR
