BEGIN:VCALENDAR
VERSION:2.0
PRODID:-//ChamberMaster//Event Calendar 2.0//EN
METHOD:PUBLISH
X-PUBLISHED-TTL:P3D
REFRESH-INTERVAL:P3D
CALSCALE:GREGORIAN
BEGIN:VEVENT
DTSTART:20090612T223000Z
DTEND:20090613T013000Z
X-MICROSOFT-CDO-ALLDAYEVENT:FALSE
SUMMARY:Ladies Night Out
DESCRIPTION:Need just a LITTLE time for yourself\, to relax and enjoy some time with your "girlfriends"?!        We've got the answer for you . Join us Friday evening\, June 12th anytime from 5:30   8:30 pm at Colleen's Catering3200 North 6th St\, North Highway 77(basement of the old Caf  77 building) We'll be sampling some fine gourmet foods and scrumptious chocolate\, coupled with a little "touch of the grape"! Combined with an opportunity to catch up on some of your shopping . It's the perfect way to start your weekend! The following businesses will be at the Open House:Tastefully Simple\,  Kat's Bags\, Creative Memories\, Dove Chocolate\, & Beauti-control.  You won't want to miss it!!
X-ALT-DESC;FMTTYPE=text/html:<div style="margin: 0in 0in 0pt"><span style="font-size: 22pt"><font face="Comic Sans MS" size="4">Need just a LITTLE time for yourself\, to relax and </font></span></div><div style="margin: 0in 0in 0pt"><span style="font-size: 22pt"><font face="Comic Sans MS" size="4">enjoy some time with your &ldquo\;girlfriends&rdquo\;?!&nbsp\;</font></span></div><div style="margin: 0in 0in 0pt"><span style="font-size: 20pt"><font face="Comic Sans MS" size="4">&nbsp\;&nbsp\;&nbsp\;&nbsp\;&nbsp\;&nbsp\; We&rsquo\;ve got the answer for you&hellip\;.&nbsp\;</font></span></div><div style="margin: 0in 0in 0pt"><span style="font-size: 20pt"><div style="margin: 0in 0in 0pt"><span style="font-size: 20pt"><font size="3">Join us Friday evening\, June 12<sup>th</sup> </font></span></div><div style="margin: 0in 0in 0pt"><span style="font-size: 20pt"><font size="3">anytime from 5:30 &ndash\; 8:30 pm </font></span></div><div style="margin: 0in 0in 0pt"><span style="font-size: 20pt"><font size="3">at Colleen&rsquo\;s Catering</font></span></div><div style="margin: 0in 0in 0pt"><font size="3"><span style="font-size: 20pt">3200 North 6<sup>th</sup> St\, North</span><span style="font-size: 20pt"> Highway 77</span></font></div><div style="margin: 0in 0in 0pt"><span style="font-size: 18pt"><font size="3">(basement of the old Caf&eacute\; 77 building)</font></span></div><div style="margin: 0in 0in 0pt"><font size="3">&nbsp\;</font></div><div style="margin: 0in 0in 0pt"><span style="font-size: 20pt"><font size="3">We&rsquo\;ll be sampling some fine gourmet foods and scrumptious chocolate\, coupled with a little &ldquo\;touch of the grape&rdquo\;! Combined with an opportunity to catch up on some of your shopping&hellip\;. </font></span></div><div style="margin: 0in 0in 0pt"><span style="font-size: 20pt"><font size="3">It&rsquo\;s the perfect way to start your weekend!</font></span></div><div style="margin: 0in 0in 0pt">&nbsp\;</div><div style="margin: 0in 0in 0pt"><span style="font-size: 20pt"><font size="3">The following businesses will be at the Open House:</font></span></div><div style="margin: 0in 0in 0pt"><span style="font-size: 20pt"><font size="3">Tastefully Simple\,&nbsp\; Kat's Bags\, Creative Memories\, Dove Chocolate\, &amp\; Beauti-control.&nbsp\; You won't want to miss it!!</font></span></div><div style="margin: 0in 0in 0pt">&nbsp\;</div><div style="margin: 0in 0in 0pt">&nbsp\;</div></span></div>
LOCATION:
UID:e.41.1249
SEQUENCE:3
DTSTAMP:20260426T042850Z
URL:https://business.beatricechamber.com/events/details/ladies-night-out-06-12-2009-1249
END:VEVENT

END:VCALENDAR
