BEGIN:VCALENDAR
VERSION:2.0
PRODID:-//ChamberMaster//Event Calendar 2.0//EN
METHOD:PUBLISH
X-PUBLISHED-TTL:P3D
REFRESH-INTERVAL:P3D
CALSCALE:GREGORIAN
BEGIN:VEVENT
DTSTART;VALUE=DATE:20110715
DTEND;VALUE=DATE:20110716
TRANSP:TRANSPARENT
X-MICROSOFT-CDO-ALLDAYEVENT:TRUE
SUMMARY:Land Records & Genealogy Symposium
DESCRIPTION:July 15 & 16 at SCC's Beatrice Campus\, 4771 West Scott Rd.  Sponsored by Southeast Community College and Homestead National Monument of America.  Cost: $99 per person for two days\; $69 per person for one day.  Lunch included.  Separate dinner event\, July 15\; $19 per person to attend.  Registration deadline July 2 or when enrollment limit has been met.\n\n\n\nContact Kelly Morgan\, 402-228-8244 or 800-233-5027\; or Homestead National Monument\, 402-223-3514.
X-ALT-DESC;FMTTYPE=text/html:July 15 &amp\; 16 at SCC&#39\;s Beatrice Campus\, 4771 West Scott Rd.&nbsp\; Sponsored by Southeast Community College and Homestead National Monument of America.&nbsp\; Cost: $99 per person for two days\; $69 per person for one day.&nbsp\; Lunch included.&nbsp\; Separate dinner event\, July 15\; $19 per person to attend.&nbsp\; Registration deadline July 2 or when enrollment limit has been met.<br />\n<br />\nContact Kelly Morgan\, 402-228-8244 or 800-233-5027\; or Homestead National Monument\, 402-223-3514.
LOCATION:
UID:e.41.4959
SEQUENCE:3
DTSTAMP:20260424T153308Z
URL:https://business.beatricechamber.com/events/details/land-records-genealogy-symposium-07-15-2011-4959
END:VEVENT

END:VCALENDAR
