BEGIN:VCALENDAR
VERSION:2.0
PRODID:-//ChamberMaster//Event Calendar 2.0//EN
METHOD:PUBLISH
X-PUBLISHED-TTL:P3D
REFRESH-INTERVAL:P3D
CALSCALE:GREGORIAN
BEGIN:VEVENT
DTSTART;VALUE=DATE:20110320
DTEND;VALUE=DATE:20110321
TRANSP:TRANSPARENT
X-MICROSOFT-CDO-ALLDAYEVENT:TRUE
SUMMARY:Lanham Memories Meeting at OWTC
DESCRIPTION:Lanham Memories Meeting\n\nOld West Trails Center\, Odell\n\n\n\nSunday\, March 20\n\n1:30 pm\n\n\n\nCenter personnel are looking for people who have pictures and oral history of the town of Lanham.
X-ALT-DESC;FMTTYPE=text/html:Lanham Memories Meeting<br />\nOld West Trails Center\, Odell<br />\n<br />\nSunday\, March 20<br />\n1:30 pm<br />\n<br />\nCenter personnel are looking for people who have pictures and oral history of the town of Lanham.
LOCATION:
UID:e.41.4254
SEQUENCE:3
DTSTAMP:20260424T211835Z
URL:https://business.beatricechamber.com/events/details/lanham-memories-meeting-at-owtc-03-20-2011-4254
END:VEVENT

END:VCALENDAR
