BEGIN:VCALENDAR
VERSION:2.0
PRODID:-//ChamberMaster//Event Calendar 2.0//EN
METHOD:PUBLISH
X-PUBLISHED-TTL:P3D
REFRESH-INTERVAL:P3D
CALSCALE:GREGORIAN
BEGIN:VEVENT
DTSTART:20110308T160000Z
DTEND:20110309T040000Z
X-MICROSOFT-CDO-ALLDAYEVENT:FALSE
SUMMARY:Laser Tag Fundraiser for Beatrice Puma Softball
DESCRIPTION:One Day Only Laser Tag In Beatrice\n\nBring your friends and family.  Games will consist of 20 minute sessions for $10.  Up to 10 players can play at one time.  Concessions will also be available.
X-ALT-DESC;FMTTYPE=text/html:One Day Only Laser Tag In Beatrice\n<br>Bring your friends and family.  Games will consist of 20 minute sessions for $10.  Up to 10 players can play at one time.  Concessions will also be available.
LOCATION:Beatrice City Auditorium
UID:e.41.4225
SEQUENCE:3
DTSTAMP:20260424T212506Z
URL:https://business.beatricechamber.com/events/details/laser-tag-fundraiser-for-beatrice-puma-softball-03-08-2011-4225
END:VEVENT

END:VCALENDAR
