BEGIN:VCALENDAR
VERSION:2.0
PRODID:-//ChamberMaster//Event Calendar 2.0//EN
METHOD:PUBLISH
X-PUBLISHED-TTL:P3D
REFRESH-INTERVAL:P3D
CALSCALE:GREGORIAN
BEGIN:VEVENT
DTSTART;VALUE=DATE:20110319
DTEND;VALUE=DATE:20110320
TRANSP:TRANSPARENT
X-MICROSOFT-CDO-ALLDAYEVENT:TRUE
SUMMARY:Laser Tag in Beatrice
DESCRIPTION:One Day Only Lazer Tag in Beatrice!\n\n  \n\nSaturday\, March 19th\n\n10:00 am to 10:00 pm \n\n Beatrice City Auditorium \n\nCost is $10 for a 20 minute session \n\n \n\nTen gamers per 20 minute session.  Come by yourself or bring a group.  You can reserve times with your group of 10.  Spectators are welcome to watch and concessions will be served.  If you have any questions or would like to reserve a time\, please call 402-239-5337. \n\nThis one day event is a fundraiser for the Beatrice Pumas 12 and Under softball team and partially sponsored by the Rolla-Rena Skate Center.
X-ALT-DESC;FMTTYPE=text/html:<strong><span style="font-size: 14pt"><span style="color: #000066"><span style="font-family: comic sans ms">One Day Only Lazer Tag in Beatrice!</span></span></span></strong><br />\n&nbsp\;&nbsp\;<br />\n<strong><span style="color: #692531"><span style="font-family: calibri\, sans-serif"><span style="font-size: medium">Saturday\, March 19</span></span></span></strong><strong><sup><span style="font-size: 8pt"><span style="color: #692531"><span style="font-family: calibri\, sans-serif">th</span></span></span></sup></strong><br />\n<span style="font-size: medium"><strong><span style="color: #692531"><span style="font-family: calibri\, sans-serif">10:00 am to 10:00 pm </span></span></strong></span><br />\n<span style="font-size: medium"><strong><span style="color: #692531"><span style="font-family: calibri\, sans-serif">&nbsp\;Beatrice City Auditorium </span></span></strong></span><br />\n<span style="font-size: medium"><strong><span style="color: #692531"><span style="font-family: calibri\, sans-serif">Cost is $10 for a 20 minute session </span></span></strong></span><br />\n&nbsp\;<br />\n<span style="color: #000066"><span style="font-family: calibri\, sans-serif"><span style="font-size: medium">Ten gamers per 20 minute session.&nbsp\; Come by yourself or bring a group.&nbsp\; You can reserve times with your group of 10.&nbsp\; Spectators are welcome to watch and concessions will be served.&nbsp\; If you have any questions or would like to reserve a time\, please call </span></span></span><span style="font-size: 11pt"><span style="color: #000066"><span style="font-family: calibri\, sans-serif">402-239-5337</span></span></span><span style="color: #000066"><span style="font-family: calibri\, sans-serif"><span style="font-size: medium">. </span></span></span><br />\n<em><span style="color: #000066"><span style="font-family: calibri\, sans-serif"><span style="font-size: medium">This one day event is a fundraiser for the Beatrice Pumas 12 and Under softball team and partially sponsored by the Rolla-Rena Skate Center.</span></span></span></em><br />\n
LOCATION:
UID:e.41.4244
SEQUENCE:3
DTSTAMP:20260424T211756Z
URL:https://business.beatricechamber.com/events/details/laser-tag-in-beatrice-03-19-2011-4244
END:VEVENT

END:VCALENDAR
