BEGIN:VCALENDAR
VERSION:2.0
PRODID:-//ChamberMaster//Event Calendar 2.0//EN
METHOD:PUBLISH
X-PUBLISHED-TTL:P3D
REFRESH-INTERVAL:P3D
CALSCALE:GREGORIAN
BEGIN:VEVENT
DTSTART;VALUE=DATE:20110713
DTEND;VALUE=DATE:20110714
TRANSP:TRANSPARENT
X-MICROSOFT-CDO-ALLDAYEVENT:TRUE
SUMMARY:LB Planning Committee
DESCRIPTION:Leadership Beatrice Planning Committee Meeting\n\n	\n\n	Wednesday\, July 13th\n\n	Noon\n\n	\n\n	Beatrice City Auditorium Conference Room\n\n	205 N 4th Street\n\n	Beatrice\, NE  68310
X-ALT-DESC;FMTTYPE=text/html:<p>\n	Leadership Beatrice Planning Committee Meeting<br />\n	<br />\n	Wednesday\, July 13th<br />\n	Noon<br />\n	<br />\n	Beatrice City Auditorium Conference Room<br />\n	205 N 4th Street<br />\n	Beatrice\, NE&nbsp\; 68310</p>\n
LOCATION:
UID:e.41.4948
SEQUENCE:3
DTSTAMP:20260424T154756Z
URL:https://business.beatricechamber.com/events/details/lb-planning-committee-07-13-2011-4948
END:VEVENT

END:VCALENDAR
