BEGIN:VCALENDAR
VERSION:2.0
PRODID:-//ChamberMaster//Event Calendar 2.0//EN
METHOD:PUBLISH
X-PUBLISHED-TTL:P3D
REFRESH-INTERVAL:P3D
CALSCALE:GREGORIAN
BEGIN:VEVENT
DTSTART:20110216T140000Z
DTEND:20110216T220000Z
X-MICROSOFT-CDO-ALLDAYEVENT:FALSE
SUMMARY:Leadership Beatrice Arts\, Culture & Media Day
DESCRIPTION:Leadership Beatrice Class 5\n\nArts\, Culture & Media Day\n\n\n\nWednesday\, February 16th\n\n8 a.m. - 4 p.m.\n\n\n\n\n\nFor more information regarding Leadership Beatrice\, contact Beatrice Area Chamber of Commerce\n\n(402) 223-2338  http://www.beatricechamber.com/page.do?acid=3&aid=29
X-ALT-DESC;FMTTYPE=text/html:Leadership Beatrice Class 5<br />\nArts\, Culture &amp\; Media Day<br />\n<br />\nWednesday\, February 16th<br />\n8 a.m. - 4 p.m.<br />\n<br />\n<br />\nFor more information regarding Leadership Beatrice\, contact Beatrice Area Chamber of Commerce<br />\n(402) 223-2338&nbsp\; <a href="http://www.beatricechamber.com/page.do?acid=3&amp\;aid=29">http://www.beatricechamber.com/page.do?acid=3&amp\;aid=29</a>
LOCATION:
UID:e.41.4022
SEQUENCE:3
DTSTAMP:20260424T230003Z
URL:https://business.beatricechamber.com/events/details/leadership-beatrice-arts-culture-media-day-02-16-2011-4022
END:VEVENT

END:VCALENDAR
