BEGIN:VCALENDAR
VERSION:2.0
PRODID:-//ChamberMaster//Event Calendar 2.0//EN
METHOD:PUBLISH
X-PUBLISHED-TTL:P3D
REFRESH-INTERVAL:P3D
CALSCALE:GREGORIAN
BEGIN:VEVENT
DTSTART;VALUE=DATE:20111116
DTEND;VALUE=DATE:20111117
TRANSP:TRANSPARENT
X-MICROSOFT-CDO-ALLDAYEVENT:TRUE
SUMMARY:Leadership Beatrice Business & Industry Day
DESCRIPTION:Leadership Beatrice - Class 6 - Business & Industry Day\n\n\n\nWednesday\, November 16\n\n8 - 4:30 pm\n\n\n\nFor more information\, Beatrice Area Chamber of Commerce\, 402-223-2338\n\nwww.beatricechamber.com
X-ALT-DESC;FMTTYPE=text/html:Leadership Beatrice - Class 6 - Business &amp\; Industry Day<br />\n<br />\nWednesday\, November 16<br />\n8 - 4:30 pm<br />\n<br />\nFor more information\, Beatrice Area Chamber of Commerce\, 402-223-2338<br />\nwww.beatricechamber.com<br />\n
LOCATION:
UID:e.41.5223
SEQUENCE:3
DTSTAMP:20260424T100033Z
URL:https://business.beatricechamber.com/events/details/leadership-beatrice-business-industry-day-11-16-2011-5223
END:VEVENT

END:VCALENDAR
