BEGIN:VCALENDAR
VERSION:2.0
PRODID:-//ChamberMaster//Event Calendar 2.0//EN
METHOD:PUBLISH
X-PUBLISHED-TTL:P3D
REFRESH-INTERVAL:P3D
CALSCALE:GREGORIAN
BEGIN:VEVENT
DTSTART;VALUE=DATE:20110119
DTEND;VALUE=DATE:20110120
TRANSP:TRANSPARENT
X-MICROSOFT-CDO-ALLDAYEVENT:TRUE
SUMMARY:Leadership Beatrice Class Day
DESCRIPTION:Leadership Beatrice Class Day\n\n"Local Government and Recreation"\n\n\n\nWednesday\, January 19th\n\n8:00 - 4:30\n\n\n\nFor information on Leadership Beatrice\, contact Beatrice Area Chamber of Commerce\, 402-223-2338 or visit www.beatricechamber.com
X-ALT-DESC;FMTTYPE=text/html:Leadership Beatrice Class Day<br />\n&quot\;Local Government and Recreation&quot\;<br />\n<br />\nWednesday\, January 19th<br />\n8:00 - 4:30<br />\n<br />\nFor information on Leadership Beatrice\, contact Beatrice Area Chamber of Commerce\, 402-223-2338 or visit <a href="http://www.beatricechamber.com">www.beatricechamber.com</a>
LOCATION:
UID:e.41.3275
SEQUENCE:3
DTSTAMP:20260425T003425Z
URL:https://business.beatricechamber.com/events/details/leadership-beatrice-class-day-01-19-2011-3275
END:VEVENT

END:VCALENDAR
